BEGIN:VCALENDAR
VERSION:2.0
PRODID:Events Booking
BEGIN:VEVENT
UID:69e4e2bdef26e
SUMMARY:FIERIDA SMART BRINDISI
DESCRIPTION:FIERIDA SMART BRINDISI
LOCATION:Piazza Duomo\, 6\, 72100 Brindisi BR
DTSTART:20240530T180000Z
DTEND:20240531T180000Z
DTSTAMP:20240508T101058Z
ORGANIZER;CN=Brindisi Eventi e Notizie:MAILTO:networkeventnews@gmail.com
GEO:40.640726;17.94532
X-APPLE-STRUCTURED-LOCATION;VALUE=URI;X-ADDRESS=Piazza Duomo\, 6\, 72100 Br
 indisi BR;X-APPLE-RADIUS=72;X-TITLE=Museo Ribezzo:40.640726;17.94532
END:VEVENT
END:VCALENDAR