BEGIN:VCALENDAR
VERSION:2.0
PRODID:Events Booking
BEGIN:VEVENT
UID:69e4cc9723586
SUMMARY:Non sparate sul postino
DESCRIPTION:“Non sparate sul postino” | Commedia del commediografo ingl
 ese Derek Benfield
LOCATION:Via De' Terribile\, 6\, 72100 Brindisi BR
DTSTART:20240525T203000Z
DTSTAMP:20240508T103205Z
ORGANIZER;CN=Brindisi Eventi e Notizie:MAILTO:networkeventnews@gmail.com
GEO:40.638464;17.94638
X-APPLE-STRUCTURED-LOCATION;VALUE=URI;X-ADDRESS=Via De' Terribile\, 6\, 721
 00 Brindisi BR;X-APPLE-RADIUS=72;X-TITLE=Teatro Impero:40.638464;17.94638
END:VEVENT
END:VCALENDAR