BEGIN:VCALENDAR
VERSION:2.0
PRODID:Events Booking
BEGIN:VEVENT
UID:69e4e407e0f96
SUMMARY:VELACup Brindisi 
DESCRIPTION:VELACup&nbsp\;Brindisi
LOCATION:Via Dardanelli\, 2\, 72100 Brindisi BR
DTSTART:20240531T160000Z
DTEND:20240601T210000Z
DTSTAMP:20240508T090235Z
ORGANIZER;CN=Brindisi Eventi e Notizie:MAILTO:networkeventnews@gmail.com
GEO:40.661059;17.962029
X-APPLE-STRUCTURED-LOCATION;VALUE=URI;X-ADDRESS=Via Dardanelli\, 2\, 72100 
 Brindisi BR;X-APPLE-RADIUS=72;X-TITLE=Marina di Brindisi:40.661059;17.9620
 29
END:VEVENT
END:VCALENDAR