BEGIN:VCALENDAR
VERSION:2.0
PRODID:Events Booking
BEGIN:VEVENT
UID:69e4dc0869695
SUMMARY:Anthony Live
DESCRIPTION:Anthony Ilardo Live
LOCATION:Via De' Terribile\, 6\, 72100 Brindisi BR
DTSTART:20240702T203000Z
DTSTAMP:20240508T102149Z
ORGANIZER;CN=Brindisi Eventi e Notizie:MAILTO:networkeventnews@gmail.com
GEO:40.638464;17.94638
X-APPLE-STRUCTURED-LOCATION;VALUE=URI;X-ADDRESS=Via De' Terribile\, 6\, 721
 00 Brindisi BR;X-APPLE-RADIUS=72;X-TITLE=Teatro Impero:40.638464;17.94638
END:VEVENT
END:VCALENDAR