BEGIN:VCALENDAR
VERSION:2.0
PRODID:Events Booking
BEGIN:VEVENT
UID:69e4dd7e25551
SUMMARY:Drusilla Foer Live
DESCRIPTION:Drusilla Foer Live 2024
LOCATION:Via Pepe\, 23\, 72015 Fasano BR
DTSTART:20241025T210000Z
DTSTAMP:20240508T122505Z
ORGANIZER;CN=Brindisi Eventi e Notizie:MAILTO:networkeventnews@gmail.com
GEO:40.834765;17.360904
X-APPLE-STRUCTURED-LOCATION;VALUE=URI;X-ADDRESS=Via Pepe\, 23\, 72015 Fasan
 o BR;X-APPLE-RADIUS=72;X-TITLE=Teatro Kennedy:40.834765;17.360904
END:VEVENT
END:VCALENDAR