BEGIN:VCALENDAR
VERSION:2.0
PRODID:Events Booking
BEGIN:VEVENT
UID:69e4cc99da729
SUMMARY:Fiorella Mannoia Live
DESCRIPTION:Fiorella Mannoia Live 2024
LOCATION:Via Peppino Orlando\, 72017 Ostuni BR
DTSTART:20240724T210000Z
DTSTAMP:20240508T131701Z
ORGANIZER;CN=Brindisi Eventi e Notizie:MAILTO:networkeventnews@gmail.com
GEO:40.735265;17.574584
X-APPLE-STRUCTURED-LOCATION;VALUE=URI;X-ADDRESS=Via Peppino Orlando\, 72017
  Ostuni BR;X-APPLE-RADIUS=72;X-TITLE=Foro Boario:40.735265;17.574584
END:VEVENT
END:VCALENDAR