BEGIN:VCALENDAR
VERSION:2.0
PRODID:Events Booking
BEGIN:VEVENT
UID:69e4cc2092ffd
SUMMARY:Mario Biondi Live
DESCRIPTION:Mario Biondi Live
LOCATION:Largo Gianni D'Errico\, 1\, 72100 Brindisi BR
DTSTART:20241114T080000Z
DTSTAMP:20240508T122059Z
ORGANIZER;CN=Brindisi Eventi e Notizie:MAILTO:networkeventnews@gmail.com
GEO:40.639012;17.944656
X-APPLE-STRUCTURED-LOCATION;VALUE=URI;X-ADDRESS=Largo Gianni D'Errico\, 1\,
  72100 Brindisi BR;X-APPLE-RADIUS=72;X-TITLE=Teatro Verdi:40.639012;17.944
 656
END:VEVENT
END:VCALENDAR