BEGIN:VCALENDAR
VERSION:2.0
PRODID:Events Booking
BEGIN:VEVENT
UID:69e4dde2e044b
SUMMARY:ROCKING FINGERS - DIRE STRAITS Tribute per l'Oktoberfest San Michel
 e Salentino
DESCRIPTION:ROCKING FINGERS - DIRE STRAITS Tribute per l'Oktoberfest San Mi
 chele Salentino
LOCATION:San Michele Salentino
DTSTART:20241013T130000Z
DTSTAMP:20240508T095058Z
ORGANIZER;CN=Brindisi Eventi e Notizie:MAILTO:networkeventnews@gmail.com
GEO:40.630495;17.631756
X-APPLE-STRUCTURED-LOCATION;VALUE=URI;X-ADDRESS=San Michele Salentino;X-APP
 LE-RADIUS=72;X-TITLE=San Michele Salentino:40.630495;17.631756
END:VEVENT
END:VCALENDAR