BEGIN:VCALENDAR
VERSION:2.0
PRODID:Events Booking
BEGIN:VEVENT
UID:69e4cccd44d43
SUMMARY:Toto Live | Locus Festival
DESCRIPTION:Toto Live | Locus Festival 2024
LOCATION:Via Peppino Orlando\, 72017 Ostuni BR
DTSTART:20240722T210000Z
DTSTAMP:20240508T131939Z
ORGANIZER;CN=Brindisi Eventi e Notizie:MAILTO:networkeventnews@gmail.com
GEO:40.735265;17.574584
X-APPLE-STRUCTURED-LOCATION;VALUE=URI;X-ADDRESS=Via Peppino Orlando\, 72017
  Ostuni BR;X-APPLE-RADIUS=72;X-TITLE=Foro Boario:40.735265;17.574584
END:VEVENT
END:VCALENDAR