BEGIN:VCALENDAR
VERSION:2.0
PRODID:Events Booking
BEGIN:VEVENT
UID:69e4de264c753
SUMMARY:Trentemoeller Live
DESCRIPTION:Trentemoeller Live 2024 |&nbsp\;CINZELLA FESTIVAL
LOCATION:Capannone Ex Montecatini\, 72100 Brindisi BR
DTSTART:20240815T210000Z
DTSTAMP:20240508T130352Z
ORGANIZER;CN=Brindisi Eventi e Notizie:MAILTO:networkeventnews@gmail.com
GEO:40.641133;17.95271
X-APPLE-STRUCTURED-LOCATION;VALUE=URI;X-ADDRESS=Capannone Ex Montecatini\, 
 72100 Brindisi BR;X-APPLE-RADIUS=72;X-TITLE=Al Capannone:40.641133;17.9527
 1
END:VEVENT
END:VCALENDAR