BEGIN:VCALENDAR
VERSION:2.0
PRODID:Events Booking
BEGIN:VEVENT
UID:69e4cc62c05b5
SUMMARY:Umberto Tozzi Live
DESCRIPTION:Umberto Tozzi Live 2024
LOCATION:Via Taranto\, 72026 San Pancrazio Salentino BR
DTSTART:20240808T210000Z
DTSTAMP:20240508T131209Z
ORGANIZER;CN=Brindisi Eventi e Notizie:MAILTO:networkeventnews@gmail.com
GEO:40.417509;17.822844
X-APPLE-STRUCTURED-LOCATION;VALUE=URI;X-ADDRESS=Via Taranto\, 72026 San Pan
 crazio Salentino BR;X-APPLE-RADIUS=72;X-TITLE=Forum Eventi:40.417509;17.82
 2844
END:VEVENT
END:VCALENDAR