BEGIN:VCALENDAR
VERSION:2.0
PRODID:Events Booking
BEGIN:VEVENT
UID:69e4e49c22c91
SUMMARY:Convegno Prevenzione e salute
DESCRIPTION:Prevenzione e salute |&nbsp\;Centro Studi Medici Mardighian
LOCATION:Via Brindisi\, 148\, 72023 Mesagne BR
DTSTART:20240525T220000Z
DTSTAMP:20240508T113759Z
ORGANIZER;CN=Brindisi Eventi e Notizie:MAILTO:networkeventnews@gmail.com
GEO:40.566148;17.816743
X-APPLE-STRUCTURED-LOCATION;VALUE=URI;X-ADDRESS=Via Brindisi\, 148\, 72023 
 Mesagne BR;X-APPLE-RADIUS=72;X-TITLE=Centro Studi Medici:40.566148;17.8167
 43
END:VEVENT
END:VCALENDAR