BEGIN:VCALENDAR
VERSION:2.0
PRODID:Events Booking
BEGIN:VEVENT
UID:69e4e080b2c8c
SUMMARY:Rassegna Pagine Erranti
DESCRIPTION:Rassegna \"Pagine Erranti\"
LOCATION:Via Giovanni Tarantini\, 35\, 72100 Brindisi BR
DTSTART:20240531T183000Z
DTSTAMP:20240508T112531Z
ORGANIZER;CN=Brindisi Eventi e Notizie:MAILTO:networkeventnews@gmail.com
GEO:40.639989;17.943853
X-APPLE-STRUCTURED-LOCATION;VALUE=URI;X-ADDRESS=Via Giovanni Tarantini\, 35
 \, 72100 Brindisi BR;X-APPLE-RADIUS=72;X-TITLE=Accademia degli Erranti:40.
 639989;17.943853
END:VEVENT
END:VCALENDAR