BEGIN:VCALENDAR
VERSION:2.0
PRODID:Events Booking
BEGIN:VEVENT
UID:69e4e457ab1b7
SUMMARY:ATM: Deglutizione e Postura
DESCRIPTION:Corso ECM \"ATM: Deglutizione e Postura\" - Brindisi
LOCATION:Corso Giuseppe Garibaldi\, 40\, 72100 Brindisi BR
DTSTART:20240629T083000Z
DTSTAMP:20240508T092253Z
ORGANIZER;CN=Brindisi Eventi e Notizie:MAILTO:networkeventnews@gmail.com
GEO:40.63819;17.946741
X-APPLE-STRUCTURED-LOCATION;VALUE=URI;X-ADDRESS=Corso Giuseppe Garibaldi\, 
 40\, 72100 Brindisi BR;X-APPLE-RADIUS=72;X-TITLE=Hotel Orientale:40.63819;
 17.946741
END:VEVENT
END:VCALENDAR