BEGIN:VCALENDAR
VERSION:2.0
PRODID:Events Booking
BEGIN:VEVENT
UID:69e4cb81dcfd3
SUMMARY:Cantine aperte 2024 a Tenute Rubino
DESCRIPTION:Cantine aperte 2024 a Tenute Rubino | Visite in cantina\, degus
 tazioni\, Rubino wine party
LOCATION:Via Enrico Fermi\, 50\, 72100 Brindisi BR
DTSTART:20240525T103000Z
DTSTAMP:20240508T095722Z
ORGANIZER;CN=Brindisi Eventi e Notizie:MAILTO:networkeventnews@gmail.com
GEO:40.632933;17.958387
X-APPLE-STRUCTURED-LOCATION;VALUE=URI;X-ADDRESS=Via Enrico Fermi\, 50\, 721
 00 Brindisi BR;X-APPLE-RADIUS=72;X-TITLE=Tenute Rubino:40.632933;17.958387
END:VEVENT
END:VCALENDAR