BEGIN:VCALENDAR
VERSION:2.0
PRODID:Events Booking
BEGIN:VEVENT
UID:69e4e3daec298
SUMMARY:GIORNATE EPATOLOGICHE BRINDISINE
DESCRIPTION:GIORNATE EPATOLOGICHE BRINDISINE 2024
LOCATION:Piazza Vittorio Emanuele II\, 7\, 72100 Brindisi BR
DTSTART:20240517T083000Z
DTEND:20240518T140000Z
DTSTAMP:20240508T100154Z
ORGANIZER;CN=Brindisi Eventi e Notizie:MAILTO:networkeventnews@gmail.com
GEO:40.640021;17.94856
X-APPLE-STRUCTURED-LOCATION;VALUE=URI;X-ADDRESS=Piazza Vittorio Emanuele II
 \, 7\, 72100 Brindisi BR;X-APPLE-RADIUS=72;X-TITLE=Autorità Portuale:40.6
 40021;17.94856
END:VEVENT
END:VCALENDAR