BEGIN:VCALENDAR
VERSION:2.0
PRODID:Events Booking
BEGIN:VEVENT
UID:69e4e2b88cea2
SUMMARY:Apocalisse Zombie
DESCRIPTION:Apocalisse Zombie BRINDISI
LOCATION:Via di Punta Penne\, 72100 Brindisi BR
DTSTART:20240914T200000Z
DTSTAMP:20240508T091602Z
ORGANIZER;CN=Brindisi Eventi e Notizie:MAILTO:networkeventnews@gmail.com
GEO:40.683271;17.935709
X-APPLE-STRUCTURED-LOCATION;VALUE=URI;X-ADDRESS=Via di Punta Penne\, 72100 
 Brindisi BR;X-APPLE-RADIUS=72;X-TITLE=Punta del Serrone:40.683271;17.93570
 9
END:VEVENT
END:VCALENDAR