BEGIN:VCALENDAR
VERSION:2.0
PRODID:Events Booking
BEGIN:VEVENT
UID:69e4cc0e4cf65
SUMMARY:Brindisi in Bicicletta
DESCRIPTION:Brindisi in Bicicletta 2024
LOCATION:Via Osanna\, 44/46\, 72100 Brindisi BR
DTSTART:20240506T090000Z
DTSTAMP:20240508T093921Z
ORGANIZER;CN=Brindisi Eventi e Notizie:MAILTO:networkeventnews@gmail.com
GEO:40.636573;17.935675
X-APPLE-STRUCTURED-LOCATION;VALUE=URI;X-ADDRESS=Via Osanna\, 44/46\, 72100 
 Brindisi BR;X-APPLE-RADIUS=72;X-TITLE=HITCH BIKE:40.636573;17.935675
END:VEVENT
END:VCALENDAR