BEGIN:VCALENDAR
VERSION:2.0
PRODID:Events Booking
BEGIN:VEVENT
UID:69e4ccccb7594
SUMMARY:Brindisi legge - Festival delle letture in Movimento
DESCRIPTION:Brindisi legge - Festival delle letture in Movimento
LOCATION:Brindisi\, 72100 Brindisi BR
DTSTART:20240506T080000Z
DTEND:20240530T230000Z
DTSTAMP:20240508T094423Z
ORGANIZER;CN=Brindisi Eventi e Notizie:MAILTO:networkeventnews@gmail.com
GEO:40.632874;17.941762
X-APPLE-STRUCTURED-LOCATION;VALUE=URI;X-ADDRESS=Brindisi\, 72100 Brindisi B
 R;X-APPLE-RADIUS=72;X-TITLE=Brindisi:40.632874;17.941762
END:VEVENT
END:VCALENDAR