BEGIN:VCALENDAR
VERSION:2.0
PRODID:Events Booking
BEGIN:VEVENT
UID:69e4cb5a683ce
SUMMARY:Percorso diVINO | Enoteca Anelli
DESCRIPTION:Percorso diVINO | Enoteca Anelli
LOCATION:Via Filomeno Consiglio\, 6\, 72100 Brindisi BR
DTSTART:20240527T203000Z
DTSTAMP:20240508T100545Z
ORGANIZER;CN=Brindisi Eventi e Notizie:MAILTO:networkeventnews@gmail.com
GEO:40.638423;17.945883
X-APPLE-STRUCTURED-LOCATION;VALUE=URI;X-ADDRESS=Via Filomeno Consiglio\, 6\
 , 72100 Brindisi BR;X-APPLE-RADIUS=72;X-TITLE=Anelli Enoteca:40.638423;17.
 945883
END:VEVENT
END:VCALENDAR