BEGIN:VCALENDAR
VERSION:2.0
PRODID:Events Booking
BEGIN:VEVENT
UID:69e4c86b1d7e0
SUMMARY:Arisa Live
DESCRIPTION:Arisa Live 2024
LOCATION:Largo Palazzetto\, 72028 Torre Santa Susanna BR
DTSTART:20240810T210000Z
DTSTAMP:20240508T131003Z
ORGANIZER;CN=Brindisi Eventi e Notizie:MAILTO:networkeventnews@gmail.com
GEO:40.461432;17.733987
X-APPLE-STRUCTURED-LOCATION;VALUE=URI;X-ADDRESS=Largo Palazzetto\, 72028 To
 rre Santa Susanna BR;X-APPLE-RADIUS=72;X-TITLE=Largo Palazzetto:40.461432;
 17.733987
END:VEVENT
END:VCALENDAR