BEGIN:VCALENDAR
VERSION:2.0
PRODID:Events Booking
BEGIN:VEVENT
UID:69e4e1486128f
SUMMARY:Diego Hernan | Una Rotonda sul Mare | Lido Azzurro
DESCRIPTION:Diego Hernan |&nbsp\;Una Rotonda sul Mare | Lido Azzurro
LOCATION:Via di Torre Testa\, 132\, 72100 Case Bianche BR
DTSTART:20240618T200000Z
DTSTAMP:20240508T113205Z
ORGANIZER;CN=Brindisi Eventi e Notizie:MAILTO:networkeventnews@gmail.com
GEO:40.694201;17.829429
X-APPLE-STRUCTURED-LOCATION;VALUE=URI;X-ADDRESS=Via di Torre Testa\, 132\, 
 72100 Case Bianche BR;X-APPLE-RADIUS=72;X-TITLE=Lido Azzurro:40.694201;17.
 829429
END:VEVENT
END:VCALENDAR