BEGIN:VCALENDAR
VERSION:2.0
PRODID:Events Booking
BEGIN:VEVENT
UID:69e4c889b9ea9
SUMMARY:Fabrizio Moro Live
DESCRIPTION:Fabrizio Moro Live
LOCATION:Mesagne
DTSTART:20240818T210000Z
DTSTAMP:20240508T124200Z
ORGANIZER;CN=Brindisi Eventi e Notizie:MAILTO:networkeventnews@gmail.com
GEO:40.558895;17.809539
X-APPLE-STRUCTURED-LOCATION;VALUE=URI;X-ADDRESS=Mesagne;X-APPLE-RADIUS=72;X
 -TITLE=Mesagne:40.558895;17.809539
END:VEVENT
END:VCALENDAR