BEGIN:VCALENDAR
VERSION:2.0
PRODID:Events Booking
BEGIN:VEVENT
UID:69e4e05818cb2
SUMMARY:Genesis | Selling  Broadway by the Trick
DESCRIPTION:Genesis | Selling Broadway by the Trick
LOCATION:Via Duomo\, 20\, 72100 Brindisi BR
DTSTART:20240517T173000Z
DTSTAMP:20240508T112116Z
ORGANIZER;CN=Brindisi Eventi e Notizie:MAILTO:networkeventnews@gmail.com
GEO:40.639382;17.945013
X-APPLE-STRUCTURED-LOCATION;VALUE=URI;X-ADDRESS=Via Duomo\, 20\, 72100 Brin
 disi BR;X-APPLE-RADIUS=72;X-TITLE=Caffetteria Nervegna:40.639382;17.945013
END:VEVENT
END:VCALENDAR