BEGIN:VCALENDAR
VERSION:2.0
PRODID:Events Booking
BEGIN:VEVENT
UID:69e4c8d8638eb
SUMMARY:Pooh Live
DESCRIPTION:Pooh Live 2024
LOCATION:Via Peppino Orlando\, 72017 Ostuni BR
DTSTART:20240824T210000Z
DTSTAMP:20240508T123116Z
ORGANIZER;CN=Brindisi Eventi e Notizie:MAILTO:networkeventnews@gmail.com
GEO:40.735265;17.574584
X-APPLE-STRUCTURED-LOCATION;VALUE=URI;X-ADDRESS=Via Peppino Orlando\, 72017
  Ostuni BR;X-APPLE-RADIUS=72;X-TITLE=Foro Boario:40.735265;17.574584
END:VEVENT
END:VCALENDAR