BEGIN:VCALENDAR
VERSION:2.0
PRODID:Events Booking
BEGIN:VEVENT
UID:69e4c9513f180
SUMMARY:ROCKING FINGERS - DIRE STRAITS Tribute
DESCRIPTION:ROCKING FINGERS - DIRE STRAITS Tribute
LOCATION:Piazza Umberto I\, 38\, 72022 Latiano BR
DTSTART:20240717T220000Z
DTSTAMP:20240508T092756Z
ORGANIZER;CN=Brindisi Eventi e Notizie:MAILTO:networkeventnews@gmail.com
GEO:40.559979;17.716253
X-APPLE-STRUCTURED-LOCATION;VALUE=URI;X-ADDRESS=Piazza Umberto I\, 38\, 720
 22 Latiano BR;X-APPLE-RADIUS=72;X-TITLE=Black Dog:40.559979;17.716253
END:VEVENT
END:VCALENDAR