BEGIN:VCALENDAR
VERSION:2.0
PRODID:Events Booking
BEGIN:VEVENT
UID:69e4df9d0d950
SUMMARY:Tentación
DESCRIPTION:Tentación
LOCATION:Via Felice Carena\, 72100 Brindisi BR
DTSTART:20240526T190000Z
DTSTAMP:20240508T101535Z
ORGANIZER;CN=Brindisi Eventi e Notizie:MAILTO:networkeventnews@gmail.com
GEO:40.620527;17.914512
X-APPLE-STRUCTURED-LOCATION;VALUE=URI;X-ADDRESS=Via Felice Carena\, 72100 B
 rindisi BR;X-APPLE-RADIUS=72;X-TITLE=Movimenti Lab. Urbano:40.620527;17.91
 4512
END:VEVENT
END:VCALENDAR